BEGIN:VCALENDAR
VERSION:2.0
PRODID:-//Sensual institute - ECPv6.15.20//NONSGML v1.0//EN
CALSCALE:GREGORIAN
METHOD:PUBLISH
X-ORIGINAL-URL:https://staging.sensualinstitute.com
X-WR-CALDESC:Events for Sensual institute
REFRESH-INTERVAL;VALUE=DURATION:PT1H
X-Robots-Tag:noindex
X-PUBLISHED-TTL:PT1H
BEGIN:VTIMEZONE
TZID:UTC
BEGIN:STANDARD
TZOFFSETFROM:+0000
TZOFFSETTO:+0000
TZNAME:UTC
DTSTART:20250101T000000
END:STANDARD
END:VTIMEZONE
BEGIN:VEVENT
DTSTART;TZID=UTC:20260316T120000
DTEND;TZID=UTC:20260316T130000
DTSTAMP:20260422T195718
CREATED:20260302T130538Z
LAST-MODIFIED:20260304T112139Z
UID:12620-1773662400-1773666000@staging.sensualinstitute.com
SUMMARY:Decompression hour
DESCRIPTION:Breathe with gentle guidance…or simply lie down\, rest and forget the world. \n\n\n\nDecompress hour is a 60-minute immersive reset at lunch.You step into another atmosphere\, surrounded by jungle\, deep space\, or ocean soundscapes. \n\n\n\nNo performance.No expectations.Just space to land in your bodyand begin the week with clarity. \n\n\n\nMondays at lunch.Six spots. \n\n\n\nPractical details\n\n\n\n• Time: Doors open at 11.30. Come early to land in the space\, bring your lunch and eat before we begin. Session starts at 12:00 • Length: 1 hour• Group size: Maximum 6 participants• Location: Sensual Institute\, Tavastgatan 43\, 118 24 Stockholm• Price: 200 SEK \n\n\n\nSpace holder\n\n\n\nTommy Inkilä guides breathwork sessions with a focus on nervous system regulation\, emotional processing\, and deepening the connection to the body. \n\n\n\nWith a 15-year background in the corporate world including CEO roles\, interim positions\, and building his own companies. \n\n\n\nHe understands firsthand the demands of high performance and fast-paced environments. seven years ago\, he chose to dedicate his life to exploring human psychology\, the nervous system\, and integrative modalities for sustainable wellbeing. \n\n\n\nToday\, he works with individuals around trauma\, conditioning\, and deeply rooted behavioral patterns\,  both mentally with 1:1 talks and psychosomatically. His approach recognizes that much of what we carry is stored not only in the mind\, but in the body. Through conscious breathwork\, these layers can be accessed\, processed\, and integrated in a grounded and supportive way. \n\n\n\nHe offers both group sessions and 1:1 private work\, tailoring each experience to the individual or the space he holds. \n\n\n\nHis primary breathwork modalities include Ecstatic Breathwork and Somatic Breathwork. \n\n\n\nThese are Dynamic and body-based approaches that support emotional release\, nervous system regulation\, and deeper self-connection. \n\n\n\nHis sessions offer a safe and structured space to:– regulate the nervous system– release stored stress and tension– process emotions– unwind limiting patterns– reconnect with the body \n\n\n\nNo prior experience is needed.Only a willingness to be present with the breath. \n\n\n\nFind out more on his insta and his website click here \n\n\n\n \n\n\n\n•   Dress as you like\n•   Queer friendly\n•   Neurospicy friendly \n\n\n\nBooking & pricing\n\n\n\n• 200 SEK per participant \n\n\n\n\n\nBookings are handled by Tommy \n\n\n\nEmail to reserve your spot or drop in (subject to availability) \n\n\n\nEmail him here to book: tommyink@gmail.com \n\n\n\n \n\n\n\n• Bookings are non-refundable\, but transferable
URL:https://staging.sensualinstitute.com/event/decompression-hour/
CATEGORIES:Tommy Inkilä
ATTACH;FMTTYPE=image/png:https://staging.sensualinstitute.com/wp-content/uploads/2026/03/TOMMY-INKILA-SPACIOUS--scaled.png
END:VEVENT
END:VCALENDAR