BEGIN:VCALENDAR
VERSION:2.0
PRODID:-//Sensual institute - ECPv6.15.20//NONSGML v1.0//EN
CALSCALE:GREGORIAN
METHOD:PUBLISH
X-ORIGINAL-URL:https://staging.sensualinstitute.com
X-WR-CALDESC:Events for Sensual institute
REFRESH-INTERVAL;VALUE=DURATION:PT1H
X-Robots-Tag:noindex
X-PUBLISHED-TTL:PT1H
BEGIN:VTIMEZONE
TZID:UTC
BEGIN:STANDARD
TZOFFSETFROM:+0000
TZOFFSETTO:+0000
TZNAME:UTC
DTSTART:20250101T000000
END:STANDARD
END:VTIMEZONE
BEGIN:VEVENT
DTSTART;TZID=UTC:20260509T180000
DTEND;TZID=UTC:20260509T210000
DTSTAMP:20260422T161139
CREATED:20260213T185700Z
LAST-MODIFIED:20260304T201016Z
UID:12152-1778349600-1778360400@staging.sensualinstitute.com
SUMMARY:The future writes back
DESCRIPTION:A speculative writer salon for voices that haven’t arrived yet \n\n\n\nThis is a three-hour writer salon for people who don’t necessarily identify as “writers\,” but who feel language stirring somewhere in the body\, in dreams\, in fragments\, in future selves. \n\n\n\nWe gather not to perfect text\, but to receive transmissions. \n\n\n\nYou’ll be invited to write from places beyond biography: \n\n\n\nparallell timelines\, non-human perspectives\, post-identity bodies\, speculative consciousness\, letters from the year 2124\, voices that live in the nervous system rather than the intellect. \n\n\n\nThe emphasis is not on critique\, improvement\, or meaning-making. This is about letting language come through\, then giving it air by reading it aloud. \n\n\n\nNo fixing. No feedback loops. Just witnessing language as a living organism. \n\n\n\nThis salon explores: \n\n\n\nwriting as portal\, voice as technology\, language as future memory. \n\n\n\n \n\n\n\nFORMAT \n\n\n\n18.00–18.30 Arrival + snacks + orientation \n\n\n\n18.30–19.15 Guided speculative writing transmissions \n\n\n\n19.15–19.30 Break \n\n\n\n19.30–20.45 Reading salon (participants read what emerged) \n\n\n\n20.45–21.00 Soft landing + closing words \n\n\n\n \n\n\n\nWHAT WE’LL WRITE FROM\n\n\n\n    •    future selves \n\n\n\n    •    alien or post-human perspectives \n\n\n\n    •    imagined civilizations \n\n\n\n    •    the body as archive \n\n\n\n    •    consciousness without gender\, age\, or identity \n\n\n\nYou can write prose\, poetry\, fragments\, lists\, or absolute nonsense. \n\n\n\n \n\n\n\nWHO IT’S FOR\n\n\n\nPeople who love: \n\n\n\n    •    language without rules \n\n\n\n    •    philosophy disguised as fiction \n\n\n\n    •    speculative futures \n\n\n\n    •    listening as a creative act \n\n\n\n    •    being witnessed without being analyzed \n\n\n\nNo writing experience needed. \n\n\n\n \n\n\n\nABOUT FUTURE ANCESTOR CLUB\n\n\n\nFuture Ancestor Club is a creative gathering space for artists\, writers\, students\, makers\, and curious humans who want to expand their lived experience  of the present moment\, and have fun doing it. \n\n\n\nWe host speculative writing salons\, embodied philosophy nights\, exquisitely weird art classes\, nude drawing sessions\, still life studies\, and conversations that drift into Science-fiction. \n\n\n\nSome sessions are quiet and conceptual. Some are chaotic and collaborative. Sometimes we jam and co-create music. Sometimes we do karaoke with four Bluetooth microphones\, because obviously. \n\n\n\nFuture Ancestor Club is part ateljé\, part salon\, part experiment\, and part cultural portal. \n\n\n\nCome to make things. \n\n\n\nCome to think differently. \n\n\n\nCome to practice being the kind of ancestor you wish yours had been. \n\n\n\nRead more at futureancestorclub.com \n\n\n\n \n\n\n\nPRACTICAL DETAILS\n\n\n\nDoors open at 17.30\, come early\, bring and eat your dinner\, land\, have a glass of wine or a cup of tea \n\n\n\n• 3 hours (including break) \n\n\n\n• Max 15 participants \n\n\n\n• Location: Sensual Institute\, Tavastgatan 43\, 118 24 Stockholm \n\n\n\n• Space holder: Camilla Wellton\, mother\, creator of the Sensual Hero’s Journey™ and author of the I AWAKE series \n\n\n\nFind out more on her instagram  and on the I Awake website \n\n\n\n \n\n\n\n• Dress however you want \n\n\n\n• Queer friendly \n\n\n\n• Neurospicy friendly \n\n\n\nBOOKING AND PRICING\n\n\n\n• 395 SEK per participant\, per session \n\n\n\n• Bookings are non-refundable\, but transferable \n\n\n\n\n395\,00 kr\n					\n				Add to cart
URL:https://staging.sensualinstitute.com/event/the-future-writes-back/
CATEGORIES:FAC Saturday,Future ancestor club
ATTACH;FMTTYPE=image/png:https://staging.sensualinstitute.com/wp-content/uploads/2026/02/FUTURE-ANCESTOR-CLUB-LOGO.png
END:VEVENT
BEGIN:VEVENT
DTSTART;TZID=UTC:20260704T180000
DTEND;TZID=UTC:20260704T210000
DTSTAMP:20260422T161139
CREATED:20260226T200113Z
LAST-MODIFIED:20260304T200827Z
UID:12471-1783188000-1783198800@staging.sensualinstitute.com
SUMMARY:Choral speech
DESCRIPTION:Choral Speech is a live voice experiment where language stops belonging to individuals and starts behaving like weather. \n\n\n\nWe build sound together. \n\n\n\nWe speak at the same time\, enter and exit phrases\, fracture meaning\, stretch syllables\, repeat words until they dissolve\, and drop into silence as a group. \n\n\n\n \n\n\n\nYou may whisper. \n\n\n\nYou may flatten your tone. \n\n\n\nYou may remove vowels. \n\n\n\nYou may speak only consonants. \n\n\n\nYou may stop mid-word. \n\n\n\nThe room becomes a living sound sculpture. \n\n\n\nThis is not about being expressive. \n\n\n\nIt is about being part of a signal. \n\n\n\nBy the end of the night\, language feels different in the body. \n\n\n\nNo vocal training needed. \n\n\n\nNo experience required. \n\n\n\nJust a voice and a willingness to use it. \n\n\n\nFORMAT \n\n\n\n18.00–18.30 Arrival + snacks + orientation \n\n\n\n18.30–19.15 Warm-up voice structures \n\n\n\n19.15–19.30 Break \n\n\n\n19.30–20.45 Long-form collective composition \n\n\n\n20.45–21.00 Soft landing + closing words \n\n\n\n \n\n\n\nWHAT WE’LL WORK WITH \n\n\n\n• single words \n\n\n\n• syllables \n\n\n\n• consonants \n\n\n\n• noise \n\n\n\n• fragments of finished and unfinished writing \n\n\n\n \n\n\n\nWHO IT’S FOR\n\n\n\n• You’re curious about voice but not interested in performance \n\n\n\n• You love language but are tired of individual spotlight culture \n\n\n\n• You’re drawn to experimental art\, sound\, poetry\, or underground readings \n\n\n\n• You want to experience collective creation without small talk \n\n\n\n• You’re comfortable being part of something larger than yourself \n\n\n\nYou do not need to be a singer. \n\n\n\nYou do not need to be a poet. \n\n\n\nYou do not need to be confident. \n\n\n\nYou only need a voice and a willingness to use it. \n\n\n\n \n\n\n\nABOUT FUTURE ANCESTOR CLUB\n\n\n\nFuture Ancestor Club is a creative gathering space for artists\, writers\, students\, makers\, and curious humans who want to expand their lived experience  of the present moment\, and have fun doing it. \n\n\n\nWe host speculative writing salons\, embodied philosophy nights\, exquisitely weird art classes\, nude drawing sessions\, still life studies\, and conversations that drift into Science-fiction. \n\n\n\nSome sessions are quiet and conceptual. Some are chaotic and collaborative. Sometimes we jam and co-create music. Sometimes we do karaoke with four Bluetooth microphones\, because obviously. \n\n\n\nFuture Ancestor Club is part ateljé\, part salon\, part experiment\, and part cultural portal. \n\n\n\nCome to make things. \n\n\n\nCome to think differently. \n\n\n\nCome to practice being the kind of ancestor you wish yours had been. \n\n\n\nRead more at futureancestorclub.com \n\n\n\n \n\n\n\nPRACTICAL DETAILS\n\n\n\nDoors open at 17.30\, come early\, bring and eat your dinner\, land\, have a glass of wine or a cup of tea \n\n\n\n• 3 hours (including break) \n\n\n\n• Max 15 participants \n\n\n\n• Location: Sensual Institute\, Tavastgatan 43\, 118 24 Stockholm \n\n\n\n• Space holder: Camilla Wellton\, mother\, creator of the Sensual Hero’s Journey™ and author of the I AWAKE series \n\n\n\nFind out more on her instagram  and on the I Awake website \n\n\n\n \n\n\n\n• Dress however you want \n\n\n\n• Queer friendly \n\n\n\n• Neurospicy friendly \n\n\n\nBOOKING AND PRICING\n\n\n\n• 395 SEK per participant\, per session \n\n\n\n• Bookings are non-refundable\, but transferable \n\n\n\n\n395\,00 kr\n					\n				Add to cart
URL:https://staging.sensualinstitute.com/event/choral-speech/
CATEGORIES:FAC Saturday,Future ancestor club
ATTACH;FMTTYPE=image/png:https://staging.sensualinstitute.com/wp-content/uploads/2026/02/FUTURE-ANCESTOR-CLUB-LOGO.png
END:VEVENT
BEGIN:VEVENT
DTSTART;TZID=UTC:20261218T180000
DTEND;TZID=UTC:20261218T210000
DTSTAMP:20260422T161139
CREATED:20260205T184452Z
LAST-MODIFIED:20260408T153213Z
UID:11881-1797616800-1797627600@staging.sensualinstitute.com
SUMMARY:The Drone Temple
DESCRIPTION:This is sound jam + voice lab + open experimental field: A sonic portal night \n\n\n\nA three-hour immersive evening where we build a living sound field together\, using drone tones\, voice textures\, synth loops\, breath rhythms\, and low-frequency vibration. This is not a concert and not a workshop\, it’s a collective sound ritual for those who want to experience music as a speculative technology. \n\n\n\nParticipants are invited to enter the Drone Temple as if entering an alien cathedral. You do not need to be a musician. You just need curiosity\, willingness\, and a body. \n\n\n\nWe begin with a grounding arrival\, then build a slow sonic architecture together\, one layer at a time. Some will hum. Some will play. Some will hold silence like an instrument. The sound becomes the room. \n\n\n\nThe drone becomes a time machine. \n\n\n\nThis salon explores: sound as portal\, vibration as philosophy\, frequency as future language. \n\n\n\n \n\n\n\nFORMAT \n\n\n\n18.00–18.30 Arrival + snacks + tuning into the space \n\n\n\n18.30–19.30 Drone build (group sound layering\, guided) \n\n\n\n19.30–19.45 Break \n\n\n\n19.45–20.45 Deep immersion session (long-form drone journey) \n\n\n\n20.45–21.00 Closing circle + optional reflections (non-therapeutic) \n\n\n\n \n\n\n\nWHAT WE’LL USE\n\n\n\n    •    synth / drone machine (provided) \n\n\n\n    •    vocal toning \n\n\n\n    •    bowls\, bells\, objects\, weird little instruments \n\n\n\n    •    body percussion \n\n\n\n    •    optional movement inside the sound \n\n\n\n \n\n\n\nWHO IT’S FOR\n\n\n\nPeople who love: \n\n\n\n    •    experimental sound \n\n\n\n    •    ambient culture \n\n\n\n    •    future trance states \n\n\n\n    •    sensory immersion \n\n\n\n    •    philosophy that lives in the body \n\n\n\nNo musical experience needed. \n\n\n\n \n\n\n\nABOUT FUTURE ANCESTOR CLUB\n\n\n\nFuture Ancestor Club is a creative gathering space for artists\, writers\, students\, makers\, and curious humans who want to expand their lived experience  of the present moment\, and have fun doing it. \n\n\n\nWe host speculative writing salons\, embodied philosophy nights\, exquisitely weird art classes\, nude drawing sessions\, still life studies\, and conversations that drift into Science-fiction. \n\n\n\nSome sessions are quiet and conceptual. Some are chaotic and collaborative. Sometimes we jam and co-create music. Sometimes we do karaoke with four Bluetooth microphones\, because obviously. \n\n\n\nFuture Ancestor Club is part ateljé\, part salon\, part experiment\, and part cultural portal. \n\n\n\nCome to make things. \n\n\n\nCome to think differently. \n\n\n\nCome to practice being the kind of ancestor you wish yours had been. \n\n\n\nRead more at futureancestorclub.com \n\n\n\n \n\n\n\nPRACTICAL DETAILS\n\n\n\n \n\n\n\n• 3 hours (including break) \n\n\n\n• Max 15 participants \n\n\n\n• Snacks and drinks included \n\n\n\n• Location: Sensual Institute\, Tavastgatan 43\, 118 24 Stockholm \n\n\n\n• Space holder: Peo Bengtsson\, musical anarchist\, lover of Magic and Myth. You find him several bands one of which is Beckahesten (dark ritualistic ambient)    \n\n\n\nHere you can listen to an article about him in P4  \n\n\n\nCheck out his Insta Here \n\n\n\nAnother band you find him in is the Stellar cult \n\n\n\n \n\n\n\n• Dress however you want \n\n\n\n• Queer friendly \n\n\n\n• Neurospicy friendly \n\n\n\nBOOKING AND PRICING\n\n\n\n• 500 SEK per participant\, per session \n\n\n\n• Bookings are non-refundable\, but transferable \n\n\n\n \n\n\n500\,00 kr\n					\n				Add to cart
URL:https://staging.sensualinstitute.com/event/the-drone-temple/
CATEGORIES:FAC Saturday,Future ancestor club
ATTACH;FMTTYPE=image/png:https://staging.sensualinstitute.com/wp-content/uploads/2026/02/FUTURE-ANCESTOR-CLUB-LOGO.png
END:VEVENT
END:VCALENDAR