BEGIN:VCALENDAR
VERSION:2.0
PRODID:-//Sensual institute - ECPv6.15.20//NONSGML v1.0//EN
CALSCALE:GREGORIAN
METHOD:PUBLISH
X-WR-CALNAME:Sensual institute
X-ORIGINAL-URL:https://staging.sensualinstitute.com
X-WR-CALDESC:Events for Sensual institute
REFRESH-INTERVAL;VALUE=DURATION:PT1H
X-Robots-Tag:noindex
X-PUBLISHED-TTL:PT1H
BEGIN:VTIMEZONE
TZID:UTC
BEGIN:STANDARD
TZOFFSETFROM:+0000
TZOFFSETTO:+0000
TZNAME:UTC
DTSTART:20250101T000000
END:STANDARD
END:VTIMEZONE
BEGIN:VEVENT
DTSTART;TZID=UTC:20260319T110000
DTEND;TZID=UTC:20260319T140000
DTSTAMP:20260422T171124
CREATED:20260213T175918Z
LAST-MODIFIED:20260213T191304Z
UID:12103-1773918000-1773928800@staging.sensualinstitute.com
SUMMARY:Open studio
DESCRIPTION:This is not a class. \n\n\n\nThis is not a workshop. \n\n\n\nThis is not yoga instruction. \n\n\n\nIt’s open studio time. \n\n\n\nA quiet\, shared room you can step into for three hours. \n\n\n\nYou can: \n\n\n\n\ncome sit in the space\n\n\n\ndo yoga\n\n\n\nwrite\n\n\n\nwork\n\n\n\nread\n\n\n\ndrink tea or coffee\n\n\n\nbe quiet\n\n\n\n\n \n\n\n\nYou can exist around other people without interacting. \n\n\n\nNo facilitation. \n\n\n\nNo program. \n\n\n\nNo expectations. \n\n\n\nThe room is held. \n\n\n\nThat’s it. \n\n\n\nMax 10 people. \n\n\n\nReally good atmosphere. \n\n\n\nCome and go within the time frame. \n\n\n\nABOUT FUTURE ANCESTOR CLUB\n\n\n\nFuture Ancestor Club is a creative gathering space for artists\, writers\, students\, makers\, and curious humans who want to expand their lived experience  of the present moment\, and have fun doing it. \n\n\n\nWe host speculative writing salons\, embodied philosophy nights\, exquisitely weird art classes\, nude drawing sessions\, still life studies\, and conversations that drift into Science-fiction. \n\n\n\nSome sessions are quiet and conceptual. Some are chaotic and collaborative. Sometimes we jam and co-create music. Sometimes we do karaoke with four Bluetooth microphones\, because obviously. \n\n\n\nFuture Ancestor Club is part ateljé\, part salon\, part experiment\, and part cultural portal. \n\n\n\nCome to make things. \n\n\n\nCome to think differently. \n\n\n\nCome to practice being the kind of ancestor you wish yours had been. \n\n\n\nRead more at https://futureancestorclub.com \n\n\n\nPRACTICAL DETAILS\n\n\n\n• 3 hours  \n\n\n\n• Max 10 participants \n\n\n\n• Snacks and drinks included \n\n\n\n• Location: Sensual Institute\, Tavastgatan 43\, 118 24 Stockholm \n\n\n\n• Dress however you want \n\n\n\n• Queer friendly \n\n\n\n• Neurospicy friendly \n\n\n\nBOOKING AND PRICING\n\n\n\n• 250 SEK per participant\, per session \n\n\n\n• Bookings are non-refundable\, but transferable \n\n\n\n \n\n\n250\,00 kr\n					\n				Add to cart
URL:https://staging.sensualinstitute.com/event/open-studio-4/
CATEGORIES:FAC Thursday,Future ancestor club
ATTACH;FMTTYPE=image/png:https://staging.sensualinstitute.com/wp-content/uploads/2026/02/FUTURE-ANCESTOR-CLUB-LOGO.png
END:VEVENT
END:VCALENDAR