BEGIN:VCALENDAR
VERSION:2.0
PRODID:-//Sensual institute - ECPv6.15.20//NONSGML v1.0//EN
CALSCALE:GREGORIAN
METHOD:PUBLISH
X-WR-CALNAME:Sensual institute
X-ORIGINAL-URL:https://staging.sensualinstitute.com
X-WR-CALDESC:Events for Sensual institute
REFRESH-INTERVAL;VALUE=DURATION:PT1H
X-Robots-Tag:noindex
X-PUBLISHED-TTL:PT1H
BEGIN:VTIMEZONE
TZID:UTC
BEGIN:STANDARD
TZOFFSETFROM:+0000
TZOFFSETTO:+0000
TZNAME:UTC
DTSTART:20250101T000000
END:STANDARD
END:VTIMEZONE
BEGIN:VEVENT
DTSTART;TZID=UTC:20260904T180000
DTEND;TZID=UTC:20260904T210000
DTSTAMP:20260422T161018
CREATED:20260204T233145Z
LAST-MODIFIED:20260304T105645Z
UID:11708-1788544800-1788555600@staging.sensualinstitute.com
SUMMARY:Desire doesn’t always want more sex...
DESCRIPTION:The Motherhole has three realms: Eros\, Mother and Crone.This is an Eros gathering. Eros is not sex.It’s the charge that lives underneath language.The pull.The no.The yes that arrives before thought.It’s sensation.It’s appetite.It’s the body remembering itself. \n\n\n\n \n\n\n\nTheme of the gathering\n\n\n\nDesire changes over time.Not dramatically. Not visibly.But enough that you start to notice you’re no longer responding the way you used to. \n\n\n\nWhat once felt expansive may now feel selective.What once wanted expression may now want containment.What once moved outward may now turn inward. \n\n\n\nThis gathering is for women who recognise that shift and want to understand it\, without forcing themselves back into an earlier version of desire. \n\n\n\nNot to reignite something.Not to fix anything.But to listen carefully to what is actually there. \n\n\n\nWhat we will do\n\n\n\nThis is a structured\, guided gathering. The focus is articulation. \n\n\n\nWe are holding a shared space in which you will experience how your desire speaks when it is allowed to be honest\, restrained\, and unperformed. \n\n\n\nYou will write in response to precise prompts. \n\n\n\nYou will reflect before speaking but you will not be speaking your thoughts\, you’ll be voicing those from another in the group. How? Come and find out! All you need to know is that it works\, it’s very liberating and feels extremely safe\, we promise! \n\n\n\nYou do not need to prepare anything.You do not need to be expressive.You do not need to know what you think before you arrive. \n\n\n\nThe focus of the evening\n\n\n\nWe explore forms of desire that are rarely named:• desire that no longer seeks validation• desire that has become precise rather than abundant• desire that withdraws instead of reaching• desire that wants clarity more than stimulation \n\n\n\nThis is not about libido.It is about orientation. \n\n\n\nMany women sense that something in their erotic life has reorganised\, but lack language for it. This gathering offers a way to slow down and name what has already shifted. \n\n\n\nThe Motherhole\n\n\n\nThe Motherhole.The first gate.The original opening. \n\n\n\nThe Motherhole is the place where life arrives\, where identity fractures\, where something that was once yours becomes a passage for others.And then\, one day\, becomes yours again. \n\n\n\nThe Motherhole gatherings are not events. They are encounters.Spaces where women come to speak from inside what actually happened\, and what is happening now. \n\n\n\nNot to be fixed.Not to be guided.Not to be improved.But to be heard. \n\n\n\nEach Motherhole gathering follows a shared method. \n\n\n\nNot because one method fits all\, but because experience needs holding in order to move. \n\n\n\nWe work with words\, bodies\, breath\, and sound.Sometimes with silence.Sometimes with meditation.Sometimes through writing.Sometimes through reading and voicing.Sometimes through movement or stillness.Not everything happens every time. \n\n\n\nBut always a shared speaking at the end. \n\n\n\nNothing is forced.You can speak.You can stay quiet.You can pass.Listening counts.The structure holds the room so experience can move\, without being explained\, fixed\, or turned into a performance. \n\n\n\nThe Motherhole has three realms\n\n\n\nErosThe realm of desire.Of appetite.Of what still wants you.Sex. Rage. Hunger. Refusal.The pull toward life that never went quiet.Enter Eros if something in you is awake and restless. \n\n\n\nMotherThe realm of cost.Of responsibility.Of what life required of you.Birth. Care. Loss of self.The moment you became a passage.Enter Mother if your life split in two and never fully rejoined. \n\n\n\nCrone \n\n\n\nThe realm of ownership.Of what you no longer give away.No more passage for life.No more explanation.Menopause. Authority. Clarity.The moment you stop bleeding and start leading yourself. \n\n\n\nRead more at themotherhole.com \n\n\n\nPractical details\n\n\n\n• Time: Doors open at 17.30. Come early to land in the space\, eat before we begin. Gathering starts at 18:00 • Length: 3 hours• Group size: Maximum 12 participants• Location: Sensual Institute\, Tavastgatan 43\, 118 24 Stockholm• Price: 500 SEK• Snacks and drinks included \n\n\n\nSpace holder\n\n\n\nCamilla Wellton\, creator of the Sensual Hero’s Journey™ and author of the I AWAKE series  \n\n\n\nFind out more on her insta and her website i-awake.com \n\n\n\n \n\n\n\n•   Dress as you like\n•   Queer friendly\n•   Neurospicy friendly \n\n\n\nBooking & pricing\n\n\n\n• 500 SEK per participant \n\n\n\nif you feel called but cannot afford it right now pls reach out and we’ll figure something out!  \n\n\n\n \n\n\n\n• Bookings are non-refundable\, but transferable  \n\n\n500\,00 kr\n					\n				Add to cart
URL:https://staging.sensualinstitute.com/event/desire-doesnt-always-want-more-sex/
CATEGORIES:Eros,The Motherhole
ATTACH;FMTTYPE=image/png:https://staging.sensualinstitute.com/wp-content/uploads/2026/02/The-motherhole-logo_Artboard-16-copy.png
END:VEVENT
END:VCALENDAR